BEGIN:VCALENDAR
VERSION:2.0
PRODID:-//Tanzschule Overrath in Essen - ECPv6.2.8.2//NONSGML v1.0//EN
CALSCALE:GREGORIAN
METHOD:PUBLISH
X-WR-CALNAME:Tanzschule Overrath in Essen
X-ORIGINAL-URL:https://www.overrath.de
X-WR-CALDESC:Veranstaltungen für Tanzschule Overrath in Essen
REFRESH-INTERVAL;VALUE=DURATION:PT1H
X-Robots-Tag:noindex
X-PUBLISHED-TTL:PT1H
BEGIN:VTIMEZONE
TZID:UTC
BEGIN:STANDARD
TZOFFSETFROM:+0000
TZOFFSETTO:+0000
TZNAME:UTC
DTSTART:20220101T000000
END:STANDARD
END:VTIMEZONE
BEGIN:VEVENT
DTSTART;TZID=UTC:20221217T200000
DTEND;TZID=UTC:20221217T230000
DTSTAMP:20260423T190020
CREATED:20221029T120143Z
LAST-MODIFIED:20221029T120237Z
UID:7613-1671307200-1671318000@www.overrath.de
SUMMARY:Weihnachtstanzparty 2022
DESCRIPTION:Weihnachtstanzparty 2022\,\ndie gesellige Übungsparty in weihnachtlichem Ambiente. \nVon 20:00 – 23:00 Uhr könnt ihr auf rund 300qm Schwingparkett zu einer weihnachtlichen Musikmischung tanzen und üben. \nMit der Weihnachtstanzparty 2022 möchten wir das Jahr gemeinsam mit euch tänzerisch und besinnlich ausklingen lassen.\nWir verabschieden uns in die Winterpause\, freuen uns aber jetzt schon auf das kommende Jahr mit euch. \nWir wünschen euch allen besinnliche Feiertag und einen wundervollen Jahresübergang und bleibt gesund! \nEintritt: 6\,-€ pro Person – Voranmeldung\nAbendkasse nach Verfügbarkeit.\nWir freuen uns auf euch!
URL:https://www.overrath.de/veranstaltung/weihnachtstanzparty-2022/
LOCATION:ADTV Tanzschule Overrath\, Admiral-Scheer-Str. 32\, Essen\, NRW\, 45128\, Deutschland
CATEGORIES:Übungsparty
ATTACH;FMTTYPE=image/jpeg:https://www.overrath.de/wp-content/uploads/2018/03/Übungsparty-1-scaled-jpg.webp
END:VEVENT
END:VCALENDAR