BEGIN:VCALENDAR
VERSION:2.0
PRODID:-//Tanzschule Overrath in Essen - ECPv6.2.8.2//NONSGML v1.0//EN
CALSCALE:GREGORIAN
METHOD:PUBLISH
X-ORIGINAL-URL:https://www.overrath.de
X-WR-CALDESC:Veranstaltungen für Tanzschule Overrath in Essen
REFRESH-INTERVAL;VALUE=DURATION:PT1H
X-Robots-Tag:noindex
X-PUBLISHED-TTL:PT1H
BEGIN:VTIMEZONE
TZID:Europe/Berlin
BEGIN:DAYLIGHT
TZOFFSETFROM:+0100
TZOFFSETTO:+0200
TZNAME:CEST
DTSTART:20230326T010000
END:DAYLIGHT
BEGIN:STANDARD
TZOFFSETFROM:+0200
TZOFFSETTO:+0100
TZNAME:CET
DTSTART:20231029T010000
END:STANDARD
END:VTIMEZONE
BEGIN:VEVENT
DTSTART;TZID=Europe/Berlin:20230503T174500
DTEND;TZID=Europe/Berlin:20230503T184500
DTSTAMP:20260423T123335
CREATED:20230422T163503Z
LAST-MODIFIED:20230422T163503Z
UID:7966-1683135900-1683139500@www.overrath.de
SUMMARY:Line Dance Schnupperstunde
DESCRIPTION:KOSTENLOSE Schnupperstunde Line Dance!\n60 Min Tanzunterricht zum Kennenlernen und das GRATIS! \nNicht jeder weiß\, ob Line Dance ihm Spaß machen würde. Vielleicht habt ihr sogar ein völlig falsches Bild davon. Macht euch doch einfach selbst eins und kommt vorbei. Hier bekommt ihr einen ersten Eindruck von der Atmosphäre\, dem Ambiente\, dem Aufbau eines Square- oder Line Dance und von unserem Team. Kein Hobby ist gesünder und vermittelt mehr Lebensfreude\, vertraut uns! \nBitte vorher anmelden! Telefonisch unter 0201/228129 oder per mail an info@overrath.de\nWir freuen uns auf euch!
URL:https://www.overrath.de/veranstaltung/line-dance-schnupperstunde/
LOCATION:ADTV Tanzschule Overrath\, Admiral-Scheer-Str. 32\, Essen\, NRW\, 45128\, Deutschland
CATEGORIES:Schnupperstunde
ATTACH;FMTTYPE=image/jpeg:https://www.overrath.de/wp-content/uploads/2017/09/Schnupper-scaled-jpg.webp
END:VEVENT
END:VCALENDAR