BEGIN:VCALENDAR
VERSION:2.0
PRODID:-//Tanzschule Overrath in Essen - ECPv6.2.8.2//NONSGML v1.0//EN
CALSCALE:GREGORIAN
METHOD:PUBLISH
X-WR-CALNAME:Tanzschule Overrath in Essen
X-ORIGINAL-URL:https://www.overrath.de
X-WR-CALDESC:Veranstaltungen für Tanzschule Overrath in Essen
REFRESH-INTERVAL;VALUE=DURATION:PT1H
X-Robots-Tag:noindex
X-PUBLISHED-TTL:PT1H
BEGIN:VTIMEZONE
TZID:Europe/Berlin
BEGIN:DAYLIGHT
TZOFFSETFROM:+0100
TZOFFSETTO:+0200
TZNAME:CEST
DTSTART:20240331T010000
END:DAYLIGHT
BEGIN:STANDARD
TZOFFSETFROM:+0200
TZOFFSETTO:+0100
TZNAME:CET
DTSTART:20241027T010000
END:STANDARD
END:VTIMEZONE
BEGIN:VEVENT
DTSTART;TZID=Europe/Berlin:20240106T200000
DTEND;TZID=Europe/Berlin:20240106T230000
DTSTAMP:20260422T230747
CREATED:20231204T211837Z
LAST-MODIFIED:20231205T110400Z
UID:5863-1704571200-1704582000@www.overrath.de
SUMMARY:"Wie-war-das-noch-Party"
DESCRIPTION:Wir begrüßen euch im neuen Jahr wie immer mit der beliebten „Wie-war-das-noch-Party“ mit „Aha-Effekt“! \nTanzparty mit Demonstration des Kursprogramms der Stufen 1-6. Perfekt zum auffrischen und „wieder rein kommen“. \nNur Abendkasse: 7\,-€ pro Person (für Teilnehmende unserer Kurse) / 10\,-€ pro Person (für Nichtkursteilnehmende)
URL:https://www.overrath.de/veranstaltung/wie-war-das-noch-party/
LOCATION:ADTV Tanzschule Overrath\, Admiral-Scheer-Str. 32\, Essen\, NRW\, 45128\, Deutschland
CATEGORIES:Übungsparty,Wiederholungsparty
ATTACH;FMTTYPE=image/jpeg:https://www.overrath.de/wp-content/uploads/2018/03/Übungsparty-1-scaled-jpg.webp
END:VEVENT
END:VCALENDAR