BEGIN:VCALENDAR
VERSION:2.0
PRODID:-//Tanzschule Overrath in Essen - ECPv6.2.8.2//NONSGML v1.0//EN
CALSCALE:GREGORIAN
METHOD:PUBLISH
X-WR-CALNAME:Tanzschule Overrath in Essen
X-ORIGINAL-URL:https://www.overrath.de
X-WR-CALDESC:Veranstaltungen für Tanzschule Overrath in Essen
REFRESH-INTERVAL;VALUE=DURATION:PT1H
X-Robots-Tag:noindex
X-PUBLISHED-TTL:PT1H
BEGIN:VTIMEZONE
TZID:Europe/Berlin
BEGIN:DAYLIGHT
TZOFFSETFROM:+0100
TZOFFSETTO:+0200
TZNAME:CEST
DTSTART:20190331T010000
END:DAYLIGHT
BEGIN:STANDARD
TZOFFSETFROM:+0200
TZOFFSETTO:+0100
TZNAME:CET
DTSTART:20191027T010000
END:STANDARD
END:VTIMEZONE
BEGIN:VEVENT
DTSTART;TZID=Europe/Berlin:20190907T203000
DTEND;TZID=Europe/Berlin:20190907T230000
DTSTAMP:20260425T212353
CREATED:20190112T213643Z
LAST-MODIFIED:20190713T204720Z
UID:4763-1567888200-1567897200@www.overrath.de
SUMMARY:Bastelstunde
DESCRIPTION:Die Tanzparty für die Stufen 1 und 2 mit Demonstration des Kursprogramms \nEintritt: 6\,-€ pro Person (nur Abendkasse) \nWir freuen uns auf euch!
URL:https://www.overrath.de/veranstaltung/bastelstunde-2/
LOCATION:NRW
END:VEVENT
BEGIN:VEVENT
DTSTART;TZID=Europe/Berlin:20190921T200000
DTEND;TZID=Europe/Berlin:20190921T200000
DTSTAMP:20260425T212353
CREATED:20180715T184115Z
LAST-MODIFIED:20190713T205024Z
UID:4035-1569096000-1569096000@www.overrath.de
SUMMARY:Herbstfest / Oldienight 2019
DESCRIPTION:Langsam wird es herbstlich… \nStimmungsvolles Abschlussfest der Sommersaison im Oldienightstil mit kleinem Showprogramm \nAbendgarderobe erbeten \nKarten im Vorverkauf: 18\,- € / Abendkasse: 20\,- € pro Person \nWir freuen uns auf euch!
URL:https://www.overrath.de/veranstaltung/herbstfest-oldienight/
LOCATION:ADTV Tanzschule Overrath\, Admiral-Scheer-Str. 32\, Essen\, NRW\, 45128\, Deutschland
CATEGORIES:Fest
END:VEVENT
END:VCALENDAR