BEGIN:VCALENDAR
VERSION:2.0
PRODID:-//Tanzschule Overrath in Essen - ECPv6.2.8.2//NONSGML v1.0//EN
CALSCALE:GREGORIAN
METHOD:PUBLISH
X-ORIGINAL-URL:https://www.overrath.de
X-WR-CALDESC:Veranstaltungen für Tanzschule Overrath in Essen
REFRESH-INTERVAL;VALUE=DURATION:PT1H
X-Robots-Tag:noindex
X-PUBLISHED-TTL:PT1H
BEGIN:VTIMEZONE
TZID:Europe/Berlin
BEGIN:DAYLIGHT
TZOFFSETFROM:+0100
TZOFFSETTO:+0200
TZNAME:CEST
DTSTART:20200329T010000
END:DAYLIGHT
BEGIN:STANDARD
TZOFFSETFROM:+0200
TZOFFSETTO:+0100
TZNAME:CET
DTSTART:20201025T010000
END:STANDARD
END:VTIMEZONE
BEGIN:VEVENT
DTSTART;TZID=Europe/Berlin:20200229T203000
DTEND;TZID=Europe/Berlin:20200229T230000
DTSTAMP:20260425T134752
CREATED:20200102T214123Z
LAST-MODIFIED:20200102T214123Z
UID:5880-1583008200-1583017200@www.overrath.de
SUMMARY:Februarparty 4 - Die stimmungsvolle und gesellige Übungsparty
DESCRIPTION:Die gesellige Übungsparty in entspannter Atmosphäre. \nVon 20:30 – 23:00 Uhr könnt ihr auf rund 300qm Schwingparkett zu einer charmanten Musikmischung tanzen und üben. Natürlich stehen wir euch auch hier gern ein wenig zur Seite\, wenn die Dinge mal nicht mehr wie gewünscht funktionieren. \nEintritt: 5\,-€ pro Person – Nur Abendkasse\nWir freuen uns auf euch!
URL:https://www.overrath.de/veranstaltung/februarparty-4-die-stimmungsvolle-und-gesellige-uebungsparty/
LOCATION:NRW
CATEGORIES:Übungsparty
END:VEVENT
END:VCALENDAR