BEGIN:VCALENDAR
VERSION:2.0
PRODID:-//Tanzschule Overrath in Essen - ECPv6.2.8.2//NONSGML v1.0//EN
CALSCALE:GREGORIAN
METHOD:PUBLISH
X-WR-CALNAME:Tanzschule Overrath in Essen
X-ORIGINAL-URL:https://www.overrath.de
X-WR-CALDESC:Veranstaltungen für Tanzschule Overrath in Essen
REFRESH-INTERVAL;VALUE=DURATION:PT1H
X-Robots-Tag:noindex
X-PUBLISHED-TTL:PT1H
BEGIN:VTIMEZONE
TZID:Europe/Berlin
BEGIN:DAYLIGHT
TZOFFSETFROM:+0100
TZOFFSETTO:+0200
TZNAME:CEST
DTSTART:20200329T010000
END:DAYLIGHT
BEGIN:STANDARD
TZOFFSETFROM:+0200
TZOFFSETTO:+0100
TZNAME:CET
DTSTART:20201025T010000
END:STANDARD
END:VTIMEZONE
BEGIN:VEVENT
DTSTART;TZID=Europe/Berlin:20200321T200000
DTEND;TZID=Europe/Berlin:20200322T000000
DTSTAMP:20260425T122927
CREATED:20200201T164641Z
LAST-MODIFIED:20200201T164641Z
UID:6059-1584820800-1584835200@www.overrath.de
SUMMARY:Frühlingsball 2020
DESCRIPTION:Der Winter geht\, der Frühling kommt… \nFestlicher Abschlussball der Wintersaison mit Showprogramm! \nAbendgarderobe erbeten! \nKarten im Vorverkauf: 20\,- € pro Person / Abendkasse 22\,- € pro Person \nWir freuen uns auf euch!
URL:https://www.overrath.de/veranstaltung/fruehlingsball-2020/
LOCATION:ADTV Tanzschule Overrath\, Admiral-Scheer-Str. 32\, Essen\, NRW\, 45128\, Deutschland
CATEGORIES:Ball,Fest
END:VEVENT
END:VCALENDAR