BEGIN:VCALENDAR
VERSION:2.0
PRODID:-//Tanzschule Overrath in Essen - ECPv6.2.8.2//NONSGML v1.0//EN
CALSCALE:GREGORIAN
METHOD:PUBLISH
X-ORIGINAL-URL:https://www.overrath.de
X-WR-CALDESC:Veranstaltungen für Tanzschule Overrath in Essen
REFRESH-INTERVAL;VALUE=DURATION:PT1H
X-Robots-Tag:noindex
X-PUBLISHED-TTL:PT1H
BEGIN:VTIMEZONE
TZID:Europe/Berlin
BEGIN:DAYLIGHT
TZOFFSETFROM:+0100
TZOFFSETTO:+0200
TZNAME:CEST
DTSTART:20210328T010000
END:DAYLIGHT
BEGIN:STANDARD
TZOFFSETFROM:+0200
TZOFFSETTO:+0100
TZNAME:CET
DTSTART:20211031T010000
END:STANDARD
END:VTIMEZONE
BEGIN:VEVENT
DTSTART;TZID=Europe/Berlin:20211211T203000
DTEND;TZID=Europe/Berlin:20211211T230000
DTSTAMP:20260424T083921
CREATED:20211204T153444Z
LAST-MODIFIED:20211204T153444Z
UID:7029-1639254600-1639263600@www.overrath.de
SUMMARY:Übungsparty Gesellschaftskreise
DESCRIPTION:Die gesellige Übungsparty in entspannter Atmosphäre.\nJahresausklang exklusiv für Teilnehmer unserer Gesellschaftskreise. \nNur mit Voranmeldung!!! \nVon 20:30 – 23:00 Uhr könnt ihr auf rund 300qm Schwingparkett zu einer charmanten Musikmischung tanzen und üben. Natürlich stehen wir euch auch hier gern ein wenig zur Seite\, wenn die Dinge mal nicht mehr wie gewünscht funktionieren. \nEintritt: kostenlos\nWir freuen uns auf euch!
URL:https://www.overrath.de/veranstaltung/uebungsparty-gesellschaftskreise/
LOCATION:ADTV Tanzschule Overrath\, Admiral-Scheer-Str. 32\, Essen\, NRW\, 45128\, Deutschland
CATEGORIES:Übungsparty
ATTACH;FMTTYPE=image/jpeg:https://www.overrath.de/wp-content/uploads/2018/03/Übungsparty-1-scaled-jpg.webp
END:VEVENT
END:VCALENDAR